BEGIN:VCALENDAR
VERSION:2.0
PRODID:-//Wink, Women Inkorporated® - ECPv6.15.20//NONSGML v1.0//EN
CALSCALE:GREGORIAN
METHOD:PUBLISH
X-ORIGINAL-URL:https://wink2link.com
X-WR-CALDESC:Events for Wink, Women Inkorporated®
REFRESH-INTERVAL;VALUE=DURATION:PT1H
X-Robots-Tag:noindex
X-PUBLISHED-TTL:PT1H
BEGIN:VTIMEZONE
TZID:America/Los_Angeles
BEGIN:DAYLIGHT
TZOFFSETFROM:-0800
TZOFFSETTO:-0700
TZNAME:PDT
DTSTART:20250309T100000
END:DAYLIGHT
BEGIN:STANDARD
TZOFFSETFROM:-0700
TZOFFSETTO:-0800
TZNAME:PST
DTSTART:20251102T090000
END:STANDARD
BEGIN:DAYLIGHT
TZOFFSETFROM:-0800
TZOFFSETTO:-0700
TZNAME:PDT
DTSTART:20260308T100000
END:DAYLIGHT
BEGIN:STANDARD
TZOFFSETFROM:-0700
TZOFFSETTO:-0800
TZNAME:PST
DTSTART:20261101T090000
END:STANDARD
BEGIN:DAYLIGHT
TZOFFSETFROM:-0800
TZOFFSETTO:-0700
TZNAME:PDT
DTSTART:20270314T100000
END:DAYLIGHT
BEGIN:STANDARD
TZOFFSETFROM:-0700
TZOFFSETTO:-0800
TZNAME:PST
DTSTART:20271107T090000
END:STANDARD
END:VTIMEZONE
BEGIN:VEVENT
DTSTART;TZID=America/Los_Angeles:20260207T130000
DTEND;TZID=America/Los_Angeles:20260207T160000
DTSTAMP:20260422T230020
CREATED:20260126T183159Z
LAST-MODIFIED:20260126T183207Z
UID:1119-1770469200-1770480000@wink2link.com
SUMMARY:𝐖𝐢𝐧𝐤 𝐒𝐢𝐬𝐭𝐞𝐫 𝐒𝐨𝐜𝐢𝐚𝐥: 𝐂𝐚𝐧𝐝𝐥𝐞 𝐌𝐚𝐤𝐢𝐧𝐠 𝐄𝐱𝐩𝐞𝐫𝐢𝐞𝐧𝐜𝐞
DESCRIPTION:𝗦𝗮𝘁𝘂𝗿𝗱𝗮𝘆\, 𝗙𝗲𝗯𝗿𝘂𝗮𝗿𝘆 𝟳 | 𝟭:𝟬𝟬–𝟰:𝟬𝟬 𝗣𝗠 At the Wink Founder’s Home – El Cajon $40 per person l $30 for Wink members \n\n\n\nJoin us for a cozy\, creative 𝗪𝗶𝗻𝗸 𝗦𝗶𝘀𝘁𝗲𝗿 𝗦𝗼𝗰𝗶𝗮𝗹 where connection meets self-expression. This intimate candle-making experience is the perfect way to slow down\, sip\, create\, and spend meaningful time with fellow Wink sisters. \n\n\n\nDuring this hands-on workshop\, you’ll design your 𝗼𝘄𝗻 𝗰𝘂𝘀𝘁𝗼𝗺 𝘀𝗼𝘆 𝗰𝗮𝗻𝗱𝗹𝗲\, choosing from a curated selection of beautiful scents (seasonal favorites included!) that reflect your mood\, style\, and energy. All materials are provided — from vessels to pre-made labels — so you can simply show up and enjoy the process. \n\n\n\n 𝗪𝗵𝗮𝘁’𝘀 𝗜𝗻𝗰𝗹𝘂𝗱𝗲𝗱: \n\n\n\nCreate your own soy candleCustom scent selectionAll materials & labels providedA relaxed\, welcoming & fun sisterhood vibeEnjoy food and beveragesMeaningful conversation + connection \n\n\n\nThis event is hosted at the 𝗪𝗶𝗻𝗸 𝗙𝗼𝘂𝗻𝗱𝗲𝗿’𝘀 𝗵𝗼𝗺𝗲 𝗶𝗻 𝗘𝗹 𝗖𝗮𝗷𝗼𝗻\, creating a warm\, personal setting designed for real conversations\, laughter\, and creativity. \n\n\n\n 𝗦𝗽𝗮𝗰𝗲 𝗶𝘀 𝗹𝗶𝗺𝗶𝘁𝗲𝗱 to keep it intimate — RSVP early to save your spot! \n\n\n\nCome 𝘱𝘰𝘶𝘳 𝘪𝘯𝘵𝘰 𝘺𝘰𝘶𝘳𝘴𝘦𝘭𝘧\, create something beautiful\, and connect with women who get it. We can’t wait to candle-make\, laugh\, and link arms together.  \n\n\n\n[Venmo payment link below. Address sent upon RSVP & payment.]
URL:https://wink2link.com/event/%f0%9d%90%96%f0%9d%90%a2%f0%9d%90%a7%f0%9d%90%a4-%f0%9d%90%92%f0%9d%90%a2%f0%9d%90%ac%f0%9d%90%ad%f0%9d%90%9e%f0%9d%90%ab-%f0%9d%90%92%f0%9d%90%a8%f0%9d%90%9c%f0%9d%90%a2%f0%9d%90%9a%f0%9d%90%a5/
ATTACH;FMTTYPE=image/jpeg:https://wink2link.com/wp-content/uploads/2026/01/Wink-candle-making.jpg
END:VEVENT
BEGIN:VEVENT
DTSTART;TZID=America/Los_Angeles:20260301T143000
DTEND;TZID=America/Los_Angeles:20260301T170000
DTSTAMP:20260422T230021
CREATED:20260126T191256Z
LAST-MODIFIED:20260217T220700Z
UID:1124-1772375400-1772384400@wink2link.com
SUMMARY:𝗪𝗶𝗻𝗸𝟮𝗟𝗶𝗻𝗸® 𝗪𝗼𝗺𝗲𝗻 𝗶𝗻 𝗕𝘂𝘀𝗶𝗻𝗲𝘀𝘀 𝗖𝗼𝗻𝗻𝗲𝗰𝘁 & 𝗚𝗿𝗼𝘄
DESCRIPTION: 𝗪𝗶𝗻𝗸𝟮𝗟𝗶𝗻𝗸® 𝗪𝗼𝗺𝗲𝗻 𝗶𝗻 𝗕𝘂𝘀𝗶𝗻𝗲𝘀𝘀 𝗖𝗼𝗻𝗻𝗲𝗰𝘁 & 𝗚𝗿𝗼𝘄 — 𝗬𝗼𝘂’𝗿𝗲 𝗜𝗻𝘃𝗶𝘁𝗲𝗱!  \n\n\n\nLadies\, come connect\, collaborate\, and grow with us at our 𝗪𝗶𝗻𝗸𝟮𝗟𝗶𝗻𝗸® 𝗪𝗼𝗺𝗲𝗻 𝗶𝗻 𝗕𝘂𝘀𝗶𝗻𝗲𝘀𝘀 𝗖𝗼𝗻𝗻𝗲𝗰𝘁 & 𝗚𝗿𝗼𝘄 — Sunday\, March 1 at Hooley’s in La Mesa! \n\n\n\nShop amazing 𝗹𝗼𝗰𝗮𝗹 𝘄𝗼𝗺𝗲𝗻-𝗼𝘄𝗻𝗲𝗱 𝗯𝘂𝘀𝗶𝗻𝗲𝘀𝘀𝗲𝘀\, enjoy light bites + beverages\, and build meaningful connections that can move your business forward — all in a warm\, uplifting\, and fun atmosphere.  \n\n\n\n When: Sunday\, March 1 Time: 2:30 – 5:00 pm Where: Hooley’s — 5500 Grossmont Center Dr\, La Mesa Cost: FREE to attend (must register below)
URL:https://wink2link.com/event/women-in-business-networking/
LOCATION:Hooleys 5500 Grossmont Center Dr\, La Mesa\, CA\, 5500 Grossmont Center Drive\, La Mesa\, 91942
ATTACH;FMTTYPE=image/png:https://wink2link.com/wp-content/uploads/2026/01/Wink-FB-group-banner-7.png
END:VEVENT
BEGIN:VEVENT
DTSTART;TZID=America/Los_Angeles:20260319T120000
DTEND;TZID=America/Los_Angeles:20260319T140000
DTSTAMP:20260422T230021
CREATED:20260304T214050Z
LAST-MODIFIED:20260306T144827Z
UID:1144-1773921600-1773928800@wink2link.com
SUMMARY:𝗦𝗵𝗲 𝗕𝘂𝗶𝗹𝗱𝘀 𝗪𝗲𝗮𝗹𝘁𝗵: 𝗠𝗼𝗻𝗲𝘆 𝗠𝗼𝘃𝗲𝘀 & 𝗠𝗶𝗻𝗱𝘀𝗲𝘁 𝗦𝗵𝗶𝗳𝘁𝘀
DESCRIPTION:𝗦𝗵𝗲 𝗕𝘂𝗶𝗹𝗱𝘀 𝗪𝗲𝗮𝗹𝘁𝗵: 𝗠𝗼𝗻𝗲𝘆 𝗠𝗼𝘃𝗲𝘀 & 𝗠𝗶𝗻𝗱𝘀𝗲𝘁 𝗦𝗵𝗶𝗳𝘁𝘀 \n\n\n\n\n\nJoin us for a powerful conversation designed to help women take control of their financial future. Several inspiring women will share their personal stories and real-life experiences with investing\, real estate\, getting out of debt\, and building wealth. \n\n\n\nYou’ll hear how they got started—no matter their age or stage of life\, what worked for them\, what they wish they had done differently\, and practical steps you can take to start making smarter money moves today. \n\n\n\nCome learn\, connect\, and leave empowered to build wealth and create a future where women truly finish rich.  \n\n\n\n—————————————————Wink is a powerful community for women in business who want 𝗿𝗲𝗮𝗹 𝗰𝗼𝗻𝗻𝗲𝗰𝘁𝗶𝗼𝗻\, 𝗰𝗼𝗹𝗹𝗮𝗯𝗼𝗿𝗮𝘁𝗶𝗼𝗻\, 𝗮𝗻𝗱 𝗴𝗿𝗼𝘄𝘁𝗵. Through networking events\, coaching\, and strategic partnerships\, Wink helps women gain visibility\, build confidence\, and grow their businesses—𝘁𝗼𝗴𝗲𝘁𝗵𝗲𝗿\, 𝗻𝗼𝘁 𝗮𝗹𝗼𝗻𝗲. \n\n\n\nOur monthly Wink networking events are designed to bring women together in a welcoming\, high-energy environment where meaningful conversations turn into real opportunities. Each gathering offers intentional connection\, inspiration\, and practical takeaways—whether you’re looking to expand your network\, collaborate with like-minded women\, gain fresh insights\, or simply be in a room that gets you. Come as you are\, leave encouraged\, connected\, and one step closer to your next level. \n\n\n\n Location: Hooley’s – 5500 Grossmont Center Drive\, La Mesa Time: 12:00 – 2:00 pm Cost: $35 (includes lunch)
URL:https://wink2link.com/event/%f0%9d%97%a6%f0%9d%97%b5%f0%9d%97%b2-%f0%9d%97%95%f0%9d%98%82%f0%9d%97%b6%f0%9d%97%b9%f0%9d%97%b1%f0%9d%98%80-%f0%9d%97%aa%f0%9d%97%b2%f0%9d%97%ae%f0%9d%97%b9%f0%9d%98%81%f0%9d%97%b5-%f0%9d%97%a0/
LOCATION:Hooley’s Public House\, 5500 Grossmont Center Dr\, La Mesa\, California\, 91942\, United States
CATEGORIES:Business Networking Luncheon
ATTACH;FMTTYPE=image/png:https://wink2link.com/wp-content/uploads/2026/03/ChatGPT-Image-Mar-4-2026-01_10_43-PM.png
END:VEVENT
BEGIN:VEVENT
DTSTART;TZID=America/Los_Angeles:20260328T120000
DTEND;TZID=America/Los_Angeles:20260328T160000
DTSTAMP:20260422T230021
CREATED:20260304T215008Z
LAST-MODIFIED:20260306T151239Z
UID:1147-1774699200-1774713600@wink2link.com
SUMMARY:WOMEN’S HISTORY MONTH MIXER & VENDOR EVENT 
DESCRIPTION:Ladies… it’s OUR month.  \n\n\n\nJoin us as we celebrate bold women\, brave dreams\, and businesses that are making history right now. \n\n\n\n Saturday\, March 28 12:00 – 4:00 PM The Perfect Workout – Mission Valley (on the 2nd floor patio) FREE for attendees (registration required) \n\n\n\nVIP attendee tickets: $25 include a swag bag full of goodies (limited quantity) \n\n\n\nThis isn’t just another networking event.It’s connection.It’s collaboration.It’s community. \n\n\n\nMeet incredible women in business\, make meaningful connections\, support local vendors\, and leave inspired to step even more boldly into your calling. \n\n\n\n Vendor tables are available — if you want visibility\, conversations\, and new opportunities\, this is your room. Email for pricing and availability: hello@wink2link.com \n\n\n\nWhether you’re growing a business\, launching something new\, or simply craving powerful women in your circle… this is where you need to be. \n\n\n\n Come celebrate women who lead. Come make new connections. Come be part of something bigger.  \n\n\n\n\n\n\n\n	\n					\n				\n\n		\n		\n\n		\n		\n\n\n\n\n\n\n\n\n\n\n\n\n\n\n\n\n\n		\n		\n\n		\n\n\n		\n							\n			\n					\n		\n\n\n\n\n\n\n\n\n\n\n\n\n\n\n		\n		\n		\n\n\n\n\n\n\nTotalTotal Due TodaySubtotalTrialAmount Due\n\n\n\n		Purchase
URL:https://wink2link.com/event/wink-march-womens-history-month-mixer-vendor-event/
LOCATION:The Perfect Workout\, 2655 Camino Del Rio N #360\, San Diego\, California\, 92108\, United States
ATTACH;FMTTYPE=image/png:https://wink2link.com/wp-content/uploads/2026/03/WHM-3.png
END:VEVENT
END:VCALENDAR