BEGIN:VCALENDAR
VERSION:2.0
PRODID:-//Wink, Women Inkorporated® - ECPv6.15.20//NONSGML v1.0//EN
CALSCALE:GREGORIAN
METHOD:PUBLISH
X-WR-CALNAME:Wink, Women Inkorporated®
X-ORIGINAL-URL:https://wink2link.com
X-WR-CALDESC:Events for Wink, Women Inkorporated®
REFRESH-INTERVAL;VALUE=DURATION:PT1H
X-Robots-Tag:noindex
X-PUBLISHED-TTL:PT1H
BEGIN:VTIMEZONE
TZID:America/Los_Angeles
BEGIN:DAYLIGHT
TZOFFSETFROM:-0800
TZOFFSETTO:-0700
TZNAME:PDT
DTSTART:20250309T100000
END:DAYLIGHT
BEGIN:STANDARD
TZOFFSETFROM:-0700
TZOFFSETTO:-0800
TZNAME:PST
DTSTART:20251102T090000
END:STANDARD
BEGIN:DAYLIGHT
TZOFFSETFROM:-0800
TZOFFSETTO:-0700
TZNAME:PDT
DTSTART:20260308T100000
END:DAYLIGHT
BEGIN:STANDARD
TZOFFSETFROM:-0700
TZOFFSETTO:-0800
TZNAME:PST
DTSTART:20261101T090000
END:STANDARD
BEGIN:DAYLIGHT
TZOFFSETFROM:-0800
TZOFFSETTO:-0700
TZNAME:PDT
DTSTART:20270314T100000
END:DAYLIGHT
BEGIN:STANDARD
TZOFFSETFROM:-0700
TZOFFSETTO:-0800
TZNAME:PST
DTSTART:20271107T090000
END:STANDARD
END:VTIMEZONE
BEGIN:VEVENT
DTSTART;TZID=America/Los_Angeles:20260105T080000
DTEND;TZID=America/Los_Angeles:20260131T170000
DTSTAMP:20260422T202318
CREATED:20260106T002435Z
LAST-MODIFIED:20260106T002439Z
UID:1097-1767600000-1769878800@wink2link.com
SUMMARY: 𝟮𝟬𝟮𝟲 𝗶𝘀 𝗢𝗨𝗥 𝘆𝗲𝗮𝗿\, 𝗪𝗶𝗻𝗸 𝗦𝗶𝘀𝘁𝗲𝗿𝘀! 
DESCRIPTION: 𝟮𝟬𝟮𝟲 𝗶𝘀 𝗢𝗨𝗥 𝘆𝗲𝗮𝗿\, 𝗪𝗶𝗻𝗸 𝗦𝗶𝘀𝘁𝗲𝗿𝘀!  \n\n\n\nOur 𝘂𝗽𝗱𝗮𝘁𝗲𝗱 𝗪𝗶𝗻𝗸 𝗲𝘃𝗲𝗻𝘁𝘀 𝗰𝗮𝗹𝗲𝗻𝗱𝗮𝗿 𝗶𝘀 𝗟𝗜𝗩𝗘 and it’s stacked with connection\, collaboration\, and growth—𝗼𝗻𝗹𝗶𝗻𝗲 𝗔𝗡𝗗 𝗶𝗻 𝗽𝗲𝗿𝘀𝗼𝗻. \n\n\n\nFrom virtual networking and group coaching to luncheons and Sisters socials\, there’s a seat for you in every room this year.  \n\n\n\nIf you’re a woman in business who’s ready to be seen\, supported\, and surrounded by other powerhouse women—𝘁𝗵𝗶𝘀 𝗶𝘀 𝘆𝗼𝘂𝗿 𝘀𝗶𝗴𝗻. \n\n\n\n Check the calendar Get in the room Show up online or in person \n\n\n\n 𝘄𝘄𝘄.𝘄𝗶𝗻𝗸𝟮𝗹𝗶𝗻𝗸.𝗰𝗼𝗺Let’s make 2026 your most connected year yet.
URL:https://wink2link.com/event/%f0%9d%9f%ae%f0%9d%9f%ac%f0%9d%9f%ae%f0%9d%9f%b2-%f0%9d%97%b6%f0%9d%98%80-%f0%9d%97%a2%f0%9d%97%a8%f0%9d%97%a5-%f0%9d%98%86%f0%9d%97%b2%f0%9d%97%ae%f0%9d%97%bf-%f0%9d%97%aa%f0%9d%97%b6/
ATTACH;FMTTYPE=image/png:https://wink2link.com/wp-content/uploads/2026/01/January-2026-1.png
END:VEVENT
BEGIN:VEVENT
DTSTART;TZID=America/Los_Angeles:20260106T120000
DTEND;TZID=America/Los_Angeles:20260106T130000
DTSTAMP:20260422T202318
CREATED:20260106T003607Z
LAST-MODIFIED:20260106T003609Z
UID:1102-1767700800-1767704400@wink2link.com
SUMMARY:Wink Virtual Networking
DESCRIPTION:💖 You don’t have to grow your business alone. 💖 \n\n\n\nEvery Tuesday from 12–1 pm PST\, the Wink Sisterhood comes together for powerful virtual networking rooted in connection\, collaboration\, and support. \n\n\n\n✨ Build real relationships✨ Be seen and supported by women who get it✨ Grow your business alongside a sisterhood that wants you to win \n\n\n\n💻 Weekly virtual networking💬 Daily posting access in our private FB group \n\n\n\nAll for just $25/month. \n\n\n\n💖 Your next connection could change everything.👉 Learn more & become an official Wink member:https://wink2link.com/become-a-member/
URL:https://wink2link.com/event/wink-virtual-networking-2/
ATTACH;FMTTYPE=image/png:https://wink2link.com/wp-content/uploads/2026/01/ChatGPT-Image-Jan-5-2026-04_33_53-PM.png
END:VEVENT
BEGIN:VEVENT
DTSTART;TZID=America/Los_Angeles:20260115T120000
DTEND;TZID=America/Los_Angeles:20260115T140000
DTSTAMP:20260422T202318
CREATED:20251229T211823Z
LAST-MODIFIED:20260106T211050Z
UID:1080-1768478400-1768485600@wink2link.com
SUMMARY:𝐈𝐧𝐯𝐢𝐬𝐢𝐛𝐥𝐞 𝐭𝐨 𝐈𝐧-𝐃𝐞𝐦𝐚𝐧𝐝: 𝐇𝐨𝐰 𝐭𝐨 𝐁𝐞𝐜𝐨𝐦𝐞 𝐭𝐡𝐞 𝐆𝐨-𝐓𝐨 𝐖𝐨𝐦𝐚𝐧 𝐢𝐧 𝐘𝐨𝐮𝐫 𝐈𝐧𝐝𝐮𝐬𝐭𝐫𝐲
DESCRIPTION: Stop being overlooked and start being remembered. This powerful 2026 kickoff luncheon is designed to help women entrepreneurs step into visibility\, authority\, and confidence — without pretending to be someone they’re not. You’ll learn how to position yourself as the go-to woman in your industry\, attract ideal clients\, and stand out in a crowded marketplace. \n\n\n\n𝗬𝗼𝘂’𝗹𝗹 𝗪𝗮𝗹𝗸 𝗔𝘄𝗮𝘆 𝗪𝗶𝘁𝗵: A clear personal brand message Confidence to talk about what you do Visibility strategies that actually work A roadmap to becoming known\, trusted\, and referred \n\n\n\n Ready to stop being invisible and start being IN DEMAND?January’s Wink Luncheon is for women who are DONE playing small and ready to be recognized\, referred\, and remembered. Seats will fill — don’t wait. \n\n\n\n Hooley’s – 5500 Grossmont Center Dr\, La Mesa 12:00 – 2:00 PM $35 | Includes Lunch
URL:https://wink2link.com/event/%f0%9d%90%85%f0%9d%90%ab%f0%9d%90%a8%f0%9d%90%a6-%f0%9d%90%88%f0%9d%90%a7%f0%9d%90%af%f0%9d%90%a2%f0%9d%90%ac%f0%9d%90%a2%f0%9d%90%9b%f0%9d%90%a5%f0%9d%90%9e-%f0%9d%90%ad%f0%9d%90%a8-%f0%9d%90%88/
LOCATION:Hooleys 5500 Grossmont Center Dr\, La Mesa\, CA\, 5500 Grossmont Center Drive\, La Mesa\, 91942
ATTACH;FMTTYPE=image/png:https://wink2link.com/wp-content/uploads/2025/12/wink-january-2026.png
ORGANIZER;CN="Wink2Link":MAILTO:hello@wink2link.com
END:VEVENT
END:VCALENDAR