BEGIN:VCALENDAR
VERSION:2.0
PRODID:-//Wink, Women Inkorporated® - ECPv6.15.20//NONSGML v1.0//EN
CALSCALE:GREGORIAN
METHOD:PUBLISH
X-ORIGINAL-URL:https://wink2link.com
X-WR-CALDESC:Events for Wink, Women Inkorporated®
REFRESH-INTERVAL;VALUE=DURATION:PT1H
X-Robots-Tag:noindex
X-PUBLISHED-TTL:PT1H
BEGIN:VTIMEZONE
TZID:America/Los_Angeles
BEGIN:DAYLIGHT
TZOFFSETFROM:-0800
TZOFFSETTO:-0700
TZNAME:PDT
DTSTART:20220313T100000
END:DAYLIGHT
BEGIN:STANDARD
TZOFFSETFROM:-0700
TZOFFSETTO:-0800
TZNAME:PST
DTSTART:20221106T090000
END:STANDARD
BEGIN:DAYLIGHT
TZOFFSETFROM:-0800
TZOFFSETTO:-0700
TZNAME:PDT
DTSTART:20230312T100000
END:DAYLIGHT
BEGIN:STANDARD
TZOFFSETFROM:-0700
TZOFFSETTO:-0800
TZNAME:PST
DTSTART:20231105T090000
END:STANDARD
BEGIN:DAYLIGHT
TZOFFSETFROM:-0800
TZOFFSETTO:-0700
TZNAME:PDT
DTSTART:20240310T100000
END:DAYLIGHT
BEGIN:STANDARD
TZOFFSETFROM:-0700
TZOFFSETTO:-0800
TZNAME:PST
DTSTART:20241103T090000
END:STANDARD
END:VTIMEZONE
BEGIN:VEVENT
DTSTART;TZID=America/Los_Angeles:20230405T114500
DTEND;TZID=America/Los_Angeles:20230405T130000
DTSTAMP:20260423T071945
CREATED:20230330T023948Z
LAST-MODIFIED:20230404T010008Z
UID:250-1680695100-1680699600@wink2link.com
SUMMARY:Women's Business Networking Luncheon
DESCRIPTION:
URL:https://wink2link.com/event/womens-business-networking-luncheon/
LOCATION:Hooley’s\, 5500 Grossmont Center Dr\, La Mesa\, 91942\, United States
CATEGORIES:Networking Luncheon
END:VEVENT
END:VCALENDAR